Package: spqn Version: 1.19.0 Command: /Library/Frameworks/R.framework/Resources/bin/R CMD INSTALL spqn StartedAt: 2025-02-19 15:06:56 -0500 (Wed, 19 Feb 2025) EndedAt: 2025-02-19 15:07:06 -0500 (Wed, 19 Feb 2025) EllapsedTime: 9.7 seconds RetCode: 0 Status: OK