Package: spoon Version: 1.5.0 Command: /home/biocbuild/bbs-3.22-bioc/R/bin/R CMD build --keep-empty-dirs --no-resave-data --md5 spoon StartedAt: 2025-10-19 20:17:21 -0400 (Sun, 19 Oct 2025) EndedAt: 2025-10-19 20:19:05 -0400 (Sun, 19 Oct 2025) EllapsedTime: 104.1 seconds RetCode: 0 Status: OK PackageFile: spoon_1.5.0.tar.gz PackageFileSize: 461.6 KiB