Package: splots Version: 1.75.0 Command: /home/biocbuild/bbs-3.22-bioc/R/bin/R CMD INSTALL splots StartedAt: 2025-10-08 15:15:42 -0400 (Wed, 08 Oct 2025) EndedAt: 2025-10-08 15:16:02 -0400 (Wed, 08 Oct 2025) EllapsedTime: 20.8 seconds RetCode: 0 Status: OK