Package: splots Version: 1.75.0 Command: /home/biocbuild/bbs-3.22-bioc/R/bin/R CMD build --keep-empty-dirs --no-resave-data --md5 splots StartedAt: 2025-10-08 20:41:50 -0400 (Wed, 08 Oct 2025) EndedAt: 2025-10-08 20:42:45 -0400 (Wed, 08 Oct 2025) EllapsedTime: 55.0 seconds RetCode: 0 Status: OK PackageFile: splots_1.75.0.tar.gz PackageFileSize: 669.8 KiB