Package: splots Version: 1.75.0 Command: /Library/Frameworks/R.framework/Resources/bin/R CMD check --install=check:splots.install-out.txt --library=/Library/Frameworks/R.framework/Resources/library --no-vignettes --timings splots_1.75.0.tar.gz StartedAt: 2025-05-07 22:13:04 -0400 (Wed, 07 May 2025) EndedAt: 2025-05-07 22:13:14 -0400 (Wed, 07 May 2025) EllapsedTime: 10.2 seconds RetCode: 0 Status: OK CheckDir: splots.Rcheck Warnings: 0