Package: splots Version: 1.75.0 Command: /Library/Frameworks/R.framework/Resources/bin/R CMD build --keep-empty-dirs --no-resave-data splots StartedAt: 2025-05-07 17:50:27 -0400 (Wed, 07 May 2025) EndedAt: 2025-05-07 17:50:53 -0400 (Wed, 07 May 2025) EllapsedTime: 26.3 seconds RetCode: 0 Status: OK PackageFile: splots_1.75.0.tar.gz PackageFileSize: 706.2 KiB