Package: splots Version: 1.75.0 Command: rm -rf splots.buildbin-libdir && mkdir splots.buildbin-libdir && /Users/biocbuild/BBS/utils/build-universal.sh splots_1.75.0.tar.gz /Library/Frameworks/R.framework/Resources/bin/R splots.buildbin-libdir StartedAt: 2025-05-07 23:14:10 -0400 (Wed, 07 May 2025) EndedAt: 2025-05-07 23:14:13 -0400 (Wed, 07 May 2025) EllapsedTime: 2.0 seconds RetCode: 0 Status: OK PackageFile: splots_1.75.0.tgz PackageFileSize: 723.9 KiB