Package: splineTimeR Version: 1.35.0 Command: E:\biocbuild\bbs-3.21-bioc\R\bin\R.exe CMD INSTALL splineTimeR StartedAt: 2025-02-03 16:01:47 -0500 (Mon, 03 Feb 2025) EndedAt: 2025-02-03 16:02:12 -0500 (Mon, 03 Feb 2025) EllapsedTime: 24.4 seconds RetCode: 0 Status: OK