############################################################################## ############################################################################## ### ### Running command: ### ### rm -rf splineTimeR.buildbin-libdir && mkdir splineTimeR.buildbin-libdir && E:\biocbuild\bbs-3.21-bioc\R\bin\R.exe CMD INSTALL --build --library=splineTimeR.buildbin-libdir splineTimeR_1.35.0.tar.gz ### ############################################################################## ############################################################################## * installing *source* package 'splineTimeR' ... ** this is package 'splineTimeR' version '1.35.0' ** using staged installation ** R ** data ** inst ** byte-compile and prepare package for lazy loading ** help *** installing help indices ** building package indices ** installing vignettes ** testing if installed package can be loaded from temporary location ** testing if installed package can be loaded from final location ** testing if installed package keeps a record of temporary installation path * MD5 sums packaged installation of 'splineTimeR' as splineTimeR_1.35.0.zip * DONE (splineTimeR)