Package: splineTimeR Version: 1.37.0 Command: /home/biocbuild/bbs-3.22-bioc/R/bin/R CMD build --keep-empty-dirs --no-resave-data --md5 splineTimeR StartedAt: 2025-09-30 20:16:23 -0400 (Tue, 30 Sep 2025) EndedAt: 2025-09-30 20:17:04 -0400 (Tue, 30 Sep 2025) EllapsedTime: 41.0 seconds RetCode: 0 Status: OK PackageFile: splineTimeR_1.37.0.tar.gz PackageFileSize: 1.226 MiB