Package: splineTimeR Version: 1.35.0 Command: /Library/Frameworks/R.framework/Resources/bin/R CMD INSTALL splineTimeR StartedAt: 2025-02-03 15:20:59 -0500 (Mon, 03 Feb 2025) EndedAt: 2025-02-03 15:21:20 -0500 (Mon, 03 Feb 2025) EllapsedTime: 20.2 seconds RetCode: 0 Status: OK