Package: splatter Version: 1.33.1 Command: /home/biocbuild/bbs-3.22-bioc/R/bin/R CMD INSTALL splatter StartedAt: 2025-10-16 16:24:31 -0400 (Thu, 16 Oct 2025) EndedAt: 2025-10-16 16:25:02 -0400 (Thu, 16 Oct 2025) EllapsedTime: 30.2 seconds RetCode: 0 Status: OK