Package: splatter Version: 1.31.0 Command: /Library/Frameworks/R.framework/Resources/bin/R CMD INSTALL splatter StartedAt: 2025-02-14 15:31:57 -0500 (Fri, 14 Feb 2025) EndedAt: 2025-02-14 15:32:37 -0500 (Fri, 14 Feb 2025) EllapsedTime: 40.1 seconds RetCode: 0 Status: OK