Package: splatter Version: 1.31.0 Command: /Library/Frameworks/R.framework/Resources/bin/R CMD build --keep-empty-dirs --no-resave-data splatter StartedAt: 2025-02-14 17:36:17 -0500 (Fri, 14 Feb 2025) EndedAt: 2025-02-14 17:37:28 -0500 (Fri, 14 Feb 2025) EllapsedTime: 70.8 seconds RetCode: 0 Status: OK PackageFile: splatter_1.31.0.tar.gz PackageFileSize: 7.297 MiB