Package: spkTools Version: 1.63.0 Command: /home/biocbuild/bbs-3.21-bioc/R/bin/R CMD check --install=check:spkTools.install-out.txt --library=/home/biocbuild/bbs-3.21-bioc/R/site-library --timings spkTools_1.63.0.tar.gz StartedAt: 2025-02-04 03:05:55 -0500 (Tue, 04 Feb 2025) EndedAt: 2025-02-04 03:07:25 -0500 (Tue, 04 Feb 2025) EllapsedTime: 90.1 seconds RetCode: 0 Status: OK CheckDir: spkTools.Rcheck Warnings: 0