Package: spkTools Version: 1.63.0 Command: /home/biocbuild/R/R/bin/R CMD build --keep-empty-dirs --no-resave-data spkTools StartedAt: 2025-01-28 02:40:48 -0000 (Tue, 28 Jan 2025) EndedAt: 2025-01-28 02:41:02 -0000 (Tue, 28 Jan 2025) EllapsedTime: 14.0 seconds RetCode: 0 Status: OK PackageFile: spkTools_1.63.0.tar.gz PackageFileSize: 650.9 KiB