Package: spkTools Version: 1.63.0 Command: /Library/Frameworks/R.framework/Resources/bin/R CMD build --keep-empty-dirs --no-resave-data spkTools StartedAt: 2025-02-04 17:42:42 -0500 (Tue, 04 Feb 2025) EndedAt: 2025-02-04 17:42:48 -0500 (Tue, 04 Feb 2025) EllapsedTime: 6.1 seconds RetCode: 0 Status: OK PackageFile: spkTools_1.63.0.tar.gz PackageFileSize: 664.3 KiB