Package: spillR Version: 1.3.0 Command: rm -rf spillR.buildbin-libdir && mkdir spillR.buildbin-libdir && E:\biocbuild\bbs-3.21-bioc\R\bin\R.exe CMD INSTALL --build --library=spillR.buildbin-libdir spillR_1.3.0.tar.gz StartedAt: 2025-02-17 08:34:39 -0500 (Mon, 17 Feb 2025) EndedAt: 2025-02-17 08:35:42 -0500 (Mon, 17 Feb 2025) EllapsedTime: 63.0 seconds RetCode: 0 Status: OK PackageFile: spillR_1.3.0.zip PackageFileSize: 312.8 KiB