Package: spillR Version: 1.5.0 Command: /home/biocbuild/bbs-3.22-bioc/R/bin/R CMD INSTALL spillR StartedAt: 2025-10-14 15:57:26 -0400 (Tue, 14 Oct 2025) EndedAt: 2025-10-14 15:58:01 -0400 (Tue, 14 Oct 2025) EllapsedTime: 35.0 seconds RetCode: 0 Status: OK