Package: spillR Version: 1.5.0 Command: /home/biocbuild/bbs-3.22-bioc/R/bin/R CMD build --keep-empty-dirs --no-resave-data --md5 spillR StartedAt: 2025-10-14 20:16:23 -0400 (Tue, 14 Oct 2025) EndedAt: 2025-10-14 20:18:30 -0400 (Tue, 14 Oct 2025) EllapsedTime: 127.1 seconds RetCode: 0 Status: OK PackageFile: spillR_1.5.0.tar.gz PackageFileSize: 430.4 KiB