Package: spillR Version: 1.3.0 Command: /home/biocbuild/bbs-3.21-bioc/R/bin/R CMD INSTALL spillR StartedAt: 2025-02-16 15:59:03 -0500 (Sun, 16 Feb 2025) EndedAt: 2025-02-16 15:59:35 -0500 (Sun, 16 Feb 2025) EllapsedTime: 31.9 seconds RetCode: 0 Status: OK