Package: spillR Version: 1.3.0 Command: /Library/Frameworks/R.framework/Resources/bin/R CMD check --install=check:spillR.install-out.txt --library=/Library/Frameworks/R.framework/Resources/library --no-vignettes --timings spillR_1.3.0.tar.gz StartedAt: 2025-02-14 23:23:37 -0500 (Fri, 14 Feb 2025) EndedAt: 2025-02-14 23:31:01 -0500 (Fri, 14 Feb 2025) EllapsedTime: 443.8 seconds RetCode: 0 Status: OK CheckDir: spillR.Rcheck Warnings: 0