Package: spillR Version: 1.3.0 Command: /Library/Frameworks/R.framework/Resources/bin/R CMD build --keep-empty-dirs --no-resave-data spillR StartedAt: 2025-02-16 18:19:09 -0500 (Sun, 16 Feb 2025) EndedAt: 2025-02-16 18:21:34 -0500 (Sun, 16 Feb 2025) EllapsedTime: 145.1 seconds RetCode: 0 Status: OK PackageFile: spillR_1.3.0.tar.gz PackageFileSize: 565.2 KiB