Package: spillR Version: 1.3.0 Command: /home/biocbuild/R/R/bin/R CMD build --keep-empty-dirs --no-resave-data spillR StartedAt: 2025-01-28 02:40:45 -0000 (Tue, 28 Jan 2025) EndedAt: 2025-01-28 02:44:03 -0000 (Tue, 28 Jan 2025) EllapsedTime: 198.1 seconds RetCode: 0 Status: OK PackageFile: spillR_1.3.0.tar.gz PackageFileSize: 346.6 KiB