Package: spillR Version: 1.5.0 Command: /Library/Frameworks/R.framework/Resources/bin/R CMD check --install=check:spillR.install-out.txt --library=/Library/Frameworks/R.framework/Resources/library --no-vignettes --timings spillR_1.5.0.tar.gz StartedAt: 2025-04-28 22:14:44 -0400 (Mon, 28 Apr 2025) EndedAt: 2025-04-28 22:17:06 -0400 (Mon, 28 Apr 2025) EllapsedTime: 141.6 seconds RetCode: 0 Status: OK CheckDir: spillR.Rcheck Warnings: 0