Package: spillR Version: 1.3.0 Command: /Library/Frameworks/R.framework/Resources/bin/R CMD build --keep-empty-dirs --no-resave-data spillR StartedAt: 2025-02-05 17:45:05 -0500 (Wed, 05 Feb 2025) EndedAt: 2025-02-05 17:45:53 -0500 (Wed, 05 Feb 2025) EllapsedTime: 47.5 seconds RetCode: 0 Status: OK PackageFile: spillR_1.3.0.tar.gz PackageFileSize: 568.7 KiB