Package: spiky Version: 1.15.0 Command: /home/biocbuild/bbs-3.22-bioc/R/bin/R CMD INSTALL spiky StartedAt: 2025-10-17 15:31:57 -0400 (Fri, 17 Oct 2025) EndedAt: 2025-10-17 15:32:37 -0400 (Fri, 17 Oct 2025) EllapsedTime: 40.2 seconds RetCode: 0 Status: OK