Package: spiky Version: 1.15.0 Command: /home/biocbuild/bbs-3.22-bioc/R/bin/R CMD build --keep-empty-dirs --no-resave-data --md5 spiky StartedAt: 2025-10-17 20:13:17 -0400 (Fri, 17 Oct 2025) EndedAt: 2025-10-17 20:14:52 -0400 (Fri, 17 Oct 2025) EllapsedTime: 95.1 seconds RetCode: 0 Status: OK PackageFile: spiky_1.15.0.tar.gz PackageFileSize: 14.31 MiB