Package: spikeLI Version: 2.69.0 Command: /home/biocbuild/bbs-3.22-bioc/R/bin/R CMD INSTALL spikeLI StartedAt: 2025-10-03 15:02:04 -0400 (Fri, 03 Oct 2025) EndedAt: 2025-10-03 15:02:12 -0400 (Fri, 03 Oct 2025) EllapsedTime: 8.9 seconds RetCode: 0 Status: OK