Package: spicyR Version: 1.19.3 Command: /Library/Frameworks/R.framework/Resources/bin/R CMD INSTALL spicyR StartedAt: 2025-02-02 15:41:57 -0500 (Sun, 02 Feb 2025) EndedAt: 2025-02-02 15:42:46 -0500 (Sun, 02 Feb 2025) EllapsedTime: 49.5 seconds RetCode: 0 Status: OK