Package: spicyR Version: 1.21.0 Command: /Library/Frameworks/R.framework/Resources/bin/R CMD check --install=check:spicyR.install-out.txt --library=/Library/Frameworks/R.framework/Resources/library --no-vignettes --timings spicyR_1.21.0.tar.gz StartedAt: 2025-05-07 22:10:42 -0400 (Wed, 07 May 2025) EndedAt: 2025-05-07 22:13:04 -0400 (Wed, 07 May 2025) EllapsedTime: 141.5 seconds RetCode: 0 Status: OK CheckDir: spicyR.Rcheck Warnings: 0