Package: spicyR Version: 1.21.0 Command: /Library/Frameworks/R.framework/Resources/bin/R CMD build --keep-empty-dirs --no-resave-data spicyR StartedAt: 2025-05-07 17:49:35 -0400 (Wed, 07 May 2025) EndedAt: 2025-05-07 17:51:38 -0400 (Wed, 07 May 2025) EllapsedTime: 123.4 seconds RetCode: 0 Status: OK PackageFile: spicyR_1.21.0.tar.gz PackageFileSize: 3.301 MiB