Package: spicyR Version: 1.21.0 Command: rm -rf spicyR.buildbin-libdir && mkdir spicyR.buildbin-libdir && /Users/biocbuild/BBS/utils/build-universal.sh spicyR_1.21.0.tar.gz /Library/Frameworks/R.framework/Resources/bin/R spicyR.buildbin-libdir StartedAt: 2025-05-07 23:14:01 -0400 (Wed, 07 May 2025) EndedAt: 2025-05-07 23:14:20 -0400 (Wed, 07 May 2025) EllapsedTime: 18.4 seconds RetCode: 0 Status: OK PackageFile: spicyR_1.21.0.tgz PackageFileSize: 3.843 MiB