Package: speckle Version: 1.9.0 Command: /home/biocbuild/bbs-3.22-bioc/R/bin/R CMD INSTALL speckle StartedAt: 2025-10-03 15:22:21 -0400 (Fri, 03 Oct 2025) EndedAt: 2025-10-03 15:22:57 -0400 (Fri, 03 Oct 2025) EllapsedTime: 36.2 seconds RetCode: 0 Status: OK