Package: specL Version: 1.43.0 Command: rm -rf specL.buildbin-libdir && mkdir specL.buildbin-libdir && F:\biocbuild\bbs-3.22-bioc\R\bin\R.exe CMD INSTALL --build --library=specL.buildbin-libdir specL_1.43.0.tar.gz StartedAt: 2025-08-15 11:23:48 -0400 (Fri, 15 Aug 2025) EndedAt: 2025-08-15 11:24:14 -0400 (Fri, 15 Aug 2025) EllapsedTime: 25.8 seconds RetCode: 0 Status: OK PackageFile: specL_1.43.0.zip PackageFileSize: 1.686 MiB