Package: specL Version: 1.41.0 Command: rm -rf specL.buildbin-libdir && mkdir specL.buildbin-libdir && E:\biocbuild\bbs-3.21-bioc\R\bin\R.exe CMD INSTALL --build --library=specL.buildbin-libdir specL_1.41.0.tar.gz StartedAt: 2025-02-17 08:34:01 -0500 (Mon, 17 Feb 2025) EndedAt: 2025-02-17 08:34:30 -0500 (Mon, 17 Feb 2025) EllapsedTime: 29.6 seconds RetCode: 0 Status: OK PackageFile: specL_1.41.0.zip PackageFileSize: 1.685 MiB