Package: specL Version: 1.41.0 Command: /home/biocbuild/bbs-3.21-bioc/R/bin/R CMD INSTALL specL StartedAt: 2025-02-16 15:12:12 -0500 (Sun, 16 Feb 2025) EndedAt: 2025-02-16 15:12:45 -0500 (Sun, 16 Feb 2025) EllapsedTime: 32.8 seconds RetCode: 0 Status: OK