Package: specL Version: 1.41.0 Command: /home/biocbuild/bbs-3.21-bioc/R/bin/R CMD build --keep-empty-dirs --no-resave-data specL StartedAt: 2025-02-14 19:11:53 -0500 (Fri, 14 Feb 2025) EndedAt: 2025-02-14 19:12:13 -0500 (Fri, 14 Feb 2025) EllapsedTime: 20.0 seconds RetCode: 0 Status: OK PackageFile: specL_1.41.0.tar.gz PackageFileSize: 2.082 MiB