Package: specL Version: 1.43.0 Maintainer: Christian Panse MaintainerEmail: cp at fgcz.ethz.ch git_url: https://git.bioconductor.org/packages/specL git_branch: devel git_last_commit: c1fe794 git_last_commit_date: 2025-04-15 10:36:24 -0400 (Tue, 15 Apr 2025)