Package: spatzie Version: 1.15.1 Command: /home/biocbuild/R/R/bin/R CMD build --keep-empty-dirs --no-resave-data spatzie StartedAt: 2025-10-10 04:24:15 -0000 (Fri, 10 Oct 2025) EndedAt: 2025-10-10 04:25:29 -0000 (Fri, 10 Oct 2025) EllapsedTime: 74.0 seconds RetCode: 0 Status: OK PackageFile: spatzie_1.15.1.tar.gz PackageFileSize: 1.877 MiB