Package: spatzie Version: 1.15.1 Command: F:\biocbuild\bbs-3.22-bioc\R\bin\R.exe CMD INSTALL spatzie StartedAt: 2025-08-14 16:58:59 -0400 (Thu, 14 Aug 2025) EndedAt: 2025-08-14 17:00:18 -0400 (Thu, 14 Aug 2025) EllapsedTime: 79.3 seconds RetCode: 0 Status: OK