Package: spatialSimGP Version: 1.3.0 Command: /home/biocbuild/R/R/bin/R CMD build --keep-empty-dirs --no-resave-data spatialSimGP StartedAt: 2025-10-03 03:25:49 -0000 (Fri, 03 Oct 2025) EndedAt: 2025-10-03 03:27:05 -0000 (Fri, 03 Oct 2025) EllapsedTime: 76.0 seconds RetCode: 0 Status: OK PackageFile: spatialSimGP_1.3.0.tar.gz PackageFileSize: 540.2 KiB