Package: spatialHeatmap Version: 2.13.1 Command: chmod a+r spatialHeatmap -R && E:\biocbuild\bbs-3.21-bioc\R\bin\R.exe CMD build --keep-empty-dirs --no-resave-data spatialHeatmap StartedAt: 2025-02-03 22:01:57 -0500 (Mon, 03 Feb 2025) EndedAt: 2025-02-03 22:12:02 -0500 (Mon, 03 Feb 2025) EllapsedTime: 604.5 seconds RetCode: 0 Status: OK PackageFile: spatialHeatmap_2.13.1.tar.gz PackageFileSize: 27 MiB