Package: spatialHeatmap Version: 2.13.1 Command: /Library/Frameworks/R.framework/Resources/bin/R CMD build --keep-empty-dirs --no-resave-data spatialHeatmap StartedAt: 2025-02-03 18:28:55 -0500 (Mon, 03 Feb 2025) EndedAt: 2025-02-03 18:33:47 -0500 (Mon, 03 Feb 2025) EllapsedTime: 292.3 seconds RetCode: 0 Status: OK PackageFile: spatialHeatmap_2.13.1.tar.gz PackageFileSize: 32.37 MiB