Package: spatialHeatmap Version: 2.13.1 Command: rm -rf spatialHeatmap.buildbin-libdir && mkdir spatialHeatmap.buildbin-libdir && /Users/biocbuild/BBS/utils/build-universal.sh spatialHeatmap_2.13.1.tar.gz /Library/Frameworks/R.framework/Resources/bin/R spatialHeatmap.buildbin-libdir StartedAt: 2025-02-04 00:58:15 -0500 (Tue, 04 Feb 2025) EndedAt: 2025-02-04 00:59:20 -0500 (Tue, 04 Feb 2025) EllapsedTime: 64.8 seconds RetCode: 0 Status: OK PackageFile: spatialHeatmap_2.13.1.tgz PackageFileSize: 32.13 MiB