Package: spatialFDA Version: 1.3.1 Command: /home/biocbuild/bbs-3.23-bioc/R/bin/R CMD INSTALL spatialFDA StartedAt: 2025-11-04 15:26:20 -0500 (Tue, 04 Nov 2025) EndedAt: 2025-11-04 15:26:53 -0500 (Tue, 04 Nov 2025) EllapsedTime: 33.3 seconds RetCode: 0 Status: OK