Package: spatialFDA Version: 1.3.1 Command: /home/biocbuild/bbs-3.23-bioc/R/bin/R CMD check --install=check:spatialFDA.install-out.txt --library=/home/biocbuild/bbs-3.23-bioc/R/site-library --timings spatialFDA_1.3.1.tar.gz StartedAt: 2025-11-17 04:22:17 -0500 (Mon, 17 Nov 2025) EndedAt: 2025-11-17 04:39:57 -0500 (Mon, 17 Nov 2025) EllapsedTime: 1060.3 seconds RetCode: 0 Status: OK CheckDir: spatialFDA.Rcheck Warnings: 0