Package: spatialFDA Version: 1.3.1 Command: /home/biocbuild/bbs-3.23-bioc/R/bin/R CMD build --keep-empty-dirs --no-resave-data spatialFDA StartedAt: 2025-11-04 20:07:40 -0500 (Tue, 04 Nov 2025) EndedAt: 2025-11-04 20:13:51 -0500 (Tue, 04 Nov 2025) EllapsedTime: 370.3 seconds RetCode: 0 Status: OK PackageFile: spatialFDA_1.3.1.tar.gz PackageFileSize: 6.146 MiB