Package: sparsenetgls Version: 1.27.0 Command: /home/biocbuild/bbs-3.22-bioc/R/bin/R CMD INSTALL sparsenetgls StartedAt: 2025-10-16 16:04:48 -0400 (Thu, 16 Oct 2025) EndedAt: 2025-10-16 16:05:14 -0400 (Thu, 16 Oct 2025) EllapsedTime: 25.5 seconds RetCode: 0 Status: OK