Package: sparsenetgls Version: 1.27.0 Command: /Library/Frameworks/R.framework/Resources/bin/R CMD INSTALL sparsenetgls StartedAt: 2025-05-09 15:03:39 -0400 (Fri, 09 May 2025) EndedAt: 2025-05-09 15:03:52 -0400 (Fri, 09 May 2025) EllapsedTime: 13.1 seconds RetCode: 0 Status: OK